BEGIN:VCALENDAR
VERSION:2.0
PRODID:-//Plone.org//NONSGML plone.app.event//EN
X-WR-TIMEZONE:US/Central
BEGIN:VEVENT
SUMMARY:Thanksgiving: Library Closed
DTSTART;VALUE=DATE:20231123
DTEND;VALUE=DATE:20231125
DTSTAMP:20260424T221341Z
UID:760e5218db66492cb5f54e817c147dce@saas_stack_varnish:6080
CATEGORIES:closed
CREATED:20210113T202555Z
DESCRIPTION:The Library will be closed for Thanksgiving on Thursday and Fr
 iday.
LAST-MODIFIED:20220804T213255Z
URL:https://www.mcplmo.com/calendar-news/events/thanksgiving-library-close
 d/2023-11-23
END:VEVENT
END:VCALENDAR
