BEGIN:VCALENDAR
VERSION:2.0
PRODID:-//Plone.org//NONSGML plone.app.event//EN
X-WR-TIMEZONE:US/Central
BEGIN:VEVENT
SUMMARY:Movie Nights
DTSTART;TZID=US/Central:20260502T190000
DTEND;TZID=US/Central:20260502T210000
DTSTAMP:20260421T114310Z
UID:00bb51c98a9f411c9f98a17a3376752c@saas_stack_varnish:6080
RRULE:FREQ=MONTHLY;UNTIL=20260606T000000;BYDAY=+1SA
EXDATE;TZID=US/Central:20260103T000000,20260404T000000
CONTACT:Gaylee Harris\, 5735648022\, mcplmo@gmail.com
CREATED:20251003T210915Z
DESCRIPTION:Join us for monthly movie nights on the 1st Saturday night of 
 the month.
LAST-MODIFIED:20251219T170027Z
LOCATION:Community Room\, Montgomery City Public Library
URL:https://www.mcplmo.com/calendar-news/events/movie-nights
END:VEVENT
BEGIN:VTIMEZONE
TZID:US/Central
X-LIC-LOCATION:US/Central
BEGIN:DAYLIGHT
DTSTART:20260308T030000
TZNAME:CDT
TZOFFSETFROM:-0600
TZOFFSETTO:-0500
END:DAYLIGHT
END:VTIMEZONE
END:VCALENDAR
