BEGIN:VCALENDAR
VERSION:2.0
PRODID:-//Plone.org//NONSGML plone.app.event//EN
X-WR-TIMEZONE:US/Central
BEGIN:VEVENT
SUMMARY:Coloring Club
DTSTART;TZID=US/Central:20241001T140000
DTEND;TZID=US/Central:20241001T150000
DTSTAMP:20260423T161001Z
UID:189cbb9516fd4c178e7f999f98c41a39@saas_stack_varnish:6080
RRULE:FREQ=MONTHLY;UNTIL=20250603T000000;BYDAY=+1TU
CONTACT:Gaylee Harris\, 5735648022\, mcplmo@gmail.com
CREATED:20241022T190124Z
LAST-MODIFIED:20241022T190138Z
LOCATION:Montgomery City Public Library
URL:https://www.mcplmo.com/calendar-news/events/coloring-club-1
END:VEVENT
BEGIN:VTIMEZONE
TZID:US/Central
X-LIC-LOCATION:US/Central
BEGIN:DAYLIGHT
DTSTART:20240310T030000
TZNAME:CDT
TZOFFSETFROM:-0600
TZOFFSETTO:-0500
END:DAYLIGHT
END:VTIMEZONE
END:VCALENDAR
