BEGIN:VCALENDAR
VERSION:2.0
PRODID:-//Plone.org//NONSGML plone.app.event//EN
X-WR-TIMEZONE:US/Central
BEGIN:VEVENT
SUMMARY:Coloring Club
DTSTART;TZID=US/Central:20241105T140000
DTEND;TZID=US/Central:20241105T150000
DTSTAMP:20260423T143804Z
UID:189cbb9516fd4c178e7f999f98c41a39@saas_stack_varnish:6080
CONTACT:Gaylee Harris\, 5735648022\, mcplmo@gmail.com
CREATED:20241022T190124Z
LAST-MODIFIED:20241022T190138Z
LOCATION:Montgomery City Public Library
URL:https://www.mcplmo.com/calendar-news/events/coloring-club-1/2024-11-05
END:VEVENT
BEGIN:VTIMEZONE
TZID:US/Central
X-LIC-LOCATION:US/Central
BEGIN:STANDARD
DTSTART:20241103T010000
TZNAME:CST
TZOFFSETFROM:-0500
TZOFFSETTO:-0600
END:STANDARD
END:VTIMEZONE
END:VCALENDAR
