BEGIN:VCALENDAR
VERSION:2.0
PRODID:-//Plone.org//NONSGML plone.app.event//EN
X-WR-TIMEZONE:US/Central
BEGIN:VEVENT
SUMMARY:Arts & Crafts
DTSTART;TZID=US/Central:20241008T140000
DTEND;TZID=US/Central:20241008T160000
DTSTAMP:20260421T121013Z
UID:0e8b1b342c4441e493c4820c511d4a47@saas_stack_varnish:6080
RRULE:FREQ=MONTHLY;UNTIL=20250610T000000;BYDAY=+2TU
CONTACT:Luanne Andrews\, 5735648022\, mcplmogroups@gmail.com
CREATED:20241022T190658Z
LAST-MODIFIED:20241022T190904Z
LOCATION:Community Room\, Montgomery City Public Library
URL:https://www.mcplmo.com/calendar-news/events/arts-crafts
END:VEVENT
BEGIN:VTIMEZONE
TZID:US/Central
X-LIC-LOCATION:US/Central
BEGIN:DAYLIGHT
DTSTART:20240310T030000
TZNAME:CDT
TZOFFSETFROM:-0600
TZOFFSETTO:-0500
END:DAYLIGHT
END:VTIMEZONE
END:VCALENDAR
